BEGIN:VCALENDAR
VERSION:2.0
CALSCALE:GREGORIAN
PRODID:-//MyApp//Calendar 1.0//EN
BEGIN:VEVENT
METHOD:PUBLISH
UID:35854@regionalniportaly.cz
DTSTAMP:20260421T203739Z
DTSTART;VALUE=DATE:20231212
DTEND;VALUE=DATE:20231213
SUMMARY:Vánoční koncert města Čelákovic
DESCRIPTION:Účinkuje Orchestr Bohumíra Hanžlíka.Vstupné 300 Kč / platí sleva pro ZTP a seniory 70+.
LOCATION:Čelákovice
END:VEVENT
END:VCALENDAR