BEGIN:VCALENDAR
VERSION:2.0
CALSCALE:GREGORIAN
PRODID:-//MyApp//Calendar 1.0//EN
BEGIN:VEVENT
METHOD:PUBLISH
UID:35821@regionalniportaly.cz
DTSTAMP:20260421T232510Z
DTSTART;VALUE=DATE:20231027
DTEND;VALUE=DATE:20231028
SUMMARY:ECSTATIC DANCE - TANČÍCÍ SRDCE
DESCRIPTION:Jste srdečně zváni na ECSTATIC DANCE - tančící srdce v Litoměřicích.s DJ CÉSAR CHUNKSpontánní tanec bez drog a alkoholu.&nbsp\;Večerem vás provedou Venus &amp\; Šárka&nbsp\;Na začátku se společně naladíme na tanec\, poté vás 2h tanečním setem provede náš oblíbený skvělý DJ CÉSAR CHUNG\,V závěrečné fázi bude pár minutová relaxace Sound healing\, kterou vás provede Venus (handpan+indiánská flétna)CÉSAR CHUNK je DJ\, producent a sběratel hudby. Na svých cestách na kole po Jižní Americe objevil své hudební povolání prostřednictvím multikulturních zvuků\, vášně objevovat více o sobě a porozumět akášickému procesu\, se kterým se musíme všichni setkat...."Objevil jsem extatický tanec\, v tom přístupu zachycuji hudbu spojenou se 7 čakrami\, hudební klávesy\, které mouhou stimulovat otevírání těch 7 dveří\, snažím s vyjádřit něco velmi subjektivního\, kde skutečné a definované nedává smysl\, ale kde éterický Talk to our body.&nbsp\;Vtěchto typech akcí nehraju disco hudbu\, tak&nbsp\;najdete pouze melodie k otevření portálů....můj nejupřímnější zvuk pro pachamamu."&nbsp\;&nbsp\;Vstupné: v předprodeji 390\,-Na místě 450\,-Na místě bude k dispozici voda a malé ovocné občerstvení. S sebou pohodlné lehké oblečení.Těšíme se na vásVenus\, Šárka a César&nbsp\;
LOCATION:Litoměřice
END:VEVENT
END:VCALENDAR