BEGIN:VCALENDAR
VERSION:2.0
CALSCALE:GREGORIAN
PRODID:-//MyApp//Calendar 1.0//EN
BEGIN:VEVENT
METHOD:PUBLISH
UID:35813@regionalniportaly.cz
DTSTAMP:20260421T221700Z
DTSTART;VALUE=DATE:20231110
DTEND;VALUE=DATE:20231111
SUMMARY:PRODAVAČI SNŮ
DESCRIPTION:Hořká komedie o začátcích kinematografie.&nbsp\;Hraje Divadýlko na dlani\, Mladá Boleslav
LOCATION:Bělá pod Bezdězem
END:VEVENT
END:VCALENDAR