BEGIN:VCALENDAR
VERSION:2.0
CALSCALE:GREGORIAN
PRODID:-//MyApp//Calendar 1.0//EN
BEGIN:VEVENT
METHOD:PUBLISH
UID:35810@regionalniportaly.cz
DTSTAMP:20260421T220057Z
DTSTART;VALUE=DATE:20231103
DTEND;VALUE=DATE:20231104
SUMMARY:Instalace
DESCRIPTION:Typická konverzační komedie ze současnosti\, která na základě zdánlivé havárie s topením v obrazové galerii ukazuje\, jak lehce se dá manipulovat s lidmi.Hraje divadlení soubor Vojan\, Hrádek nad Nisou.&nbsp\;
LOCATION:Bělá pod Bezdězem
END:VEVENT
END:VCALENDAR