BEGIN:VCALENDAR
VERSION:2.0
CALSCALE:GREGORIAN
PRODID:-//MyApp//Calendar 1.0//EN
BEGIN:VEVENT
METHOD:PUBLISH
UID:35791@regionalniportaly.cz
DTSTAMP:20260421T233435Z
DTSTART;VALUE=DATE:20231029
DTEND;VALUE=DATE:20231030
SUMMARY:Halloweenský karneval
DESCRIPTION:Užijte si svátek všech duchů na strašidelné párty!!! Na programu je diskotéka s oblíbenými dětskými hity\, halloweenské malování na obličej\, zábavné soutěže a hry!  Každé dítě\, které dorazí v masce se může těšit na dáreček! Čeká Vás také malé občerstvení\, stylová strašidelná výzdoba a skvělá zábava! Akce se bude konat za jakéhokoli počasí! Areál otevřen od 15:00 do 18:00 hodin. Program bude probíhat v čase 15:30 až 17:30 hodin. Vstupné je jednotné pro děti od 1 roku (včetně) i dospělé osoby. Děti do 12 měsíců mají vstup zdarma.
LOCATION:Čelákovice
END:VEVENT
END:VCALENDAR