BEGIN:VCALENDAR
VERSION:2.0
CALSCALE:GREGORIAN
PRODID:-//MyApp//Calendar 1.0//EN
BEGIN:VEVENT
METHOD:PUBLISH
UID:35229@regionalniportaly.cz
DTSTAMP:20260421T220154Z
DTSTART;VALUE=DATE:20230929
DTEND;VALUE=DATE:20230930
SUMMARY:Ecstatic dance - tančící srdce
DESCRIPTION:Ecstatic dance - tanec bez drog a alkohol\, v radosti a uvolnění&nbsp\;Dj Kante Ar vás bude provázet tanečním 2h&nbsp\;setemvečer je v energii Úplňku\, společně se nejprve na tanec naladíme a v závěrečném večeru po tanci &nbsp\;zrelaxujeme Sound healingem&nbsp\;provedou Venus Sun Temple&nbsp\;&nbsp\;a Šárka Veselá&nbsp\;akce se koná v soukromém&nbsp\;klubu v Litoměřicích&nbsp\;
LOCATION:Litoměřice
END:VEVENT
END:VCALENDAR