BEGIN:VCALENDAR
VERSION:2.0
CALSCALE:GREGORIAN
PRODID:-//MyApp//Calendar 1.0//EN
BEGIN:VEVENT
METHOD:PUBLISH
UID:35107@regionalniportaly.cz
DTSTAMP:20260422T005932Z
DTSTART;VALUE=DATE:20231028
DTEND;VALUE=DATE:20231029
SUMMARY:Výroční cena města 2023
DESCRIPTION:Slavnostní večer u příležitosti udělení „Výroční ceny města Čelákovic 2023“ spolku Volmanova vila\, z. s.\, s koncertem Jana Smigmatora &amp\; Bandu.Moderuje: Karla MráčkováVstupné: 200 Kč
LOCATION:Čelákovice
END:VEVENT
END:VCALENDAR