BEGIN:VCALENDAR
VERSION:2.0
CALSCALE:GREGORIAN
PRODID:-//MyApp//Calendar 1.0//EN
BEGIN:VEVENT
METHOD:PUBLISH
UID:34721@regionalniportaly.cz
DTSTAMP:20260422T032447Z
DTSTART;VALUE=DATE:20230823
DTEND;VALUE=DATE:20230824
SUMMARY:#annaismissing - Letní kino Litoměřice
DESCRIPTION:ČR\, 2023\, 108 minRežie: Pavel Soukup&nbsp\;Anna\, influencerka známá svým provokativním obsahem\, se na sítích tajemně odmlčí. Když patnáctiletá Nina najde fotku polonahé Anny v mobilu svého táty\, rozhodne se ji vypátrat. Sled dalších událostí změní život jak Nině\, tak její rodině. Thriller&nbsp\;#annaismissing&nbsp\;je volným filmovým pokračováním úspěšného seriálu&nbsp\;#martyisdead&nbsp\;ověnčeného International Emmy Award 2020.
LOCATION:Litoměřice
END:VEVENT
END:VCALENDAR