BEGIN:VCALENDAR
VERSION:2.0
CALSCALE:GREGORIAN
PRODID:-//MyApp//Calendar 1.0//EN
BEGIN:VEVENT
METHOD:PUBLISH
UID:34562@regionalniportaly.cz
DTSTAMP:20260421T232459Z
DTSTART;VALUE=DATE:20231104
DTEND;VALUE=DATE:20231105
SUMMARY:Mňága a Žďorp
DESCRIPTION:Česká rocková hudební skupina pocházející z Valašskéhpo meziříčí\, se formovala již od roku 1983 a zpočátku vystupovala pod názvem Slepé střevo. Postupem času\, se kapela dostala k názvu mňága a žďorp\, který pochází ze slezského dialektu a znamená „bláto“ a „staré krámy“.
LOCATION:Čelákovice
END:VEVENT
END:VCALENDAR