BEGIN:VCALENDAR
VERSION:2.0
CALSCALE:GREGORIAN
PRODID:-//MyApp//Calendar 1.0//EN
BEGIN:VEVENT
METHOD:PUBLISH
UID:34541@regionalniportaly.cz
DTSTAMP:20260421T235604Z
DTSTART;VALUE=DATE:20240320
DTEND;VALUE=DATE:20240321
SUMMARY:MŮŽEM I S MUŽEM 2
DESCRIPTION:VTIPNÁ AUTORSKÁ FEÉRIE 4 žen\, 4 archetypů\, VZNIKLA Z POTŘEBY podívat se pravdě do očí…Co vše se odkryje a kolik slupek oloupe během jedné narozeninové párty. A po čem všichni touží\, no přece po lásce\, po tom nádherném stavu milovat a být milován.…\, co ženy dělají\, když si myslí\, že je nikdo nevidí.hrají: Vanda Hybnerová\, Jitka Sedláčková\, Eva Leinweberová\, Dáša ZázvůrkováPODOBNOST SE SERIÁLEM SEX VE MĚSTĚ JE ČISTĚ NÁHODNÁdélka představení: 105 min (hrajeme bez přestávky)Produkce: VIP Art CompanyCena vstupenek: 490\,- Kč / 450\,- Kč /420\,- Kč.
LOCATION:Čelákovice
END:VEVENT
END:VCALENDAR