BEGIN:VCALENDAR
VERSION:2.0
CALSCALE:GREGORIAN
PRODID:-//MyApp//Calendar 1.0//EN
BEGIN:VEVENT
METHOD:PUBLISH
UID:33997@regionalniportaly.cz
DTSTAMP:20260422T013030Z
DTSTART;VALUE=DATE:20230718
DTEND;VALUE=DATE:20230719
SUMMARY:Těžká Barbora
DESCRIPTION:aneb Je to porád dokolaHra Těžká Barbora je situována do města Ediamu jež je obdobou našeho Kocourkova. Mírumilovný Eidam je ohrožen rozpínavou sousední velmocí. Navíc v jeho samotném srdci pilně pracuje pátá kolona. Přijde vám to aktuální? Nám taky.&nbsp\;Proto jsme se rozhodli zařadit do letního repertoáru představení\, které ač poprvé uvedené před 2. světvou válkou\, je díky situaci na Ukrajině velmi\, velmi aktuální. Proti zlu se prostě bojovat musí. My zatím\, díky Bohu\, můžeme bojovat humorem. Ale jak zpívá ke konci učitel Gustav: „Co na světě mám rád\, nedám si brát...“
LOCATION:Bělá pod Bezdězem
END:VEVENT
END:VCALENDAR