BEGIN:VCALENDAR
VERSION:2.0
CALSCALE:GREGORIAN
PRODID:-//MyApp//Calendar 1.0//EN
BEGIN:VEVENT
METHOD:PUBLISH
UID:33151@regionalniportaly.cz
DTSTAMP:20260421T203614Z
DTSTART;VALUE=DATE:20230722
DTEND;VALUE=DATE:20230723
SUMMARY:Talk show Veronika Žilková a Bořek Slezáček
DESCRIPTION:Herečtí kolegové se rozhodli vyprávět příběhy ze svého profesního i osobního života\, zážitky ze zákulisí divadel\, filmu a televizních štábů. A že jich je. Proberou i své osobní výhry a prohry\, samozřejmě s&nbsp\;nadhledem\, humorem a sebeironií. To vše v&nbsp\;interaktivní talk show\, ve které se i vy můžete zeptat na cokoliv chcete.&nbsp\;Venkovní akce\, vezměte si s sebou deku pro pohodlné sezení v trávě.V případě deště bude program přesunut do Mramorového sálu zámku LibliceDélka pořadu 110 minut22.07. 19 hod. Liblice\, Konferenční centrum AV ČR – Zámek\, Liblice 61\, 277 32 Byšice\;
LOCATION:Byšice
END:VEVENT
END:VCALENDAR