BEGIN:VCALENDAR
VERSION:2.0
CALSCALE:GREGORIAN
PRODID:-//MyApp//Calendar 1.0//EN
BEGIN:VEVENT
METHOD:PUBLISH
UID:32721@regionalniportaly.cz
DTSTAMP:20260422T011913Z
DTSTART;VALUE=DATE:20230710
DTEND;VALUE=DATE:20230711
SUMMARY:Pudl a pudr
DESCRIPTION:Pudl a pudraneb Fantastické počátky barokního divadla v ČecháchMuzikál&nbsp\;Pudl a pudr&nbsp\;roztančený v rytmu disco-opery diváky přenese do doby počátků barokního divadla v Čechách.Jeden je básník\, druhý skladatel. Poznali okázalost karnevalů\, slávu komedie i lesk italské opery. Divadlo mají v srdci i pod kůží a k tomu podědili geniální talent. Ale co s ním v Praze sedmnáctého století? Poznejte s námi osudy bratrů\, kteří potřebovali splatit otcův dluh\, a proto (ne)ovlivnili dějiny českého barokního divadla.„Barvitá encyklopedie divadla psaná zpěvem\, tancem\, a hlavně vyzrálým komediálním herectvím i pěvectvím\,“ popsal divadelní kritik Vladimír Just.&nbsp\;režie: Petr Hašekscénář a dramaturgie: Helena Koblischkováhudba: David Hlaváč a Tomáš Hanzlíkscéna a kostýmy: Jitka Nejedláchoreografie: Martin Talagahrají: Petr Šmíd\, Vojtěch Franců\, Kristýna Matěj Dámová\, Lucie Valenová\, Tereza Bortlová\,&nbsp\;Martin Bohadlo&nbsp\;O SOUBORUGeisslers HofcomoediantenGeisslers Hofcomoedianten přes dvacet let tvoří současné hravé divadlo inspirované barokem. Neusilují ale o rekonstrukci původních barokních her a předloze dávají současný rozměr\, objevují nadčasová témata\, zapomenuté příběhy\, odkazy slavných divadelních osobností a paralely mezi minulostí a současností. Od roku 2014 Geisslers pravidelně hrají na jevišti Divadla VILA Štvanice\, kde také od roku 2015 pořádají festival pro rodiny s dětmi VILOmeniny. Od svého počátku jsou Geissleři součástí festivalu barokního divadla a hudby THEATRUM KUKS. Každoročně v létě vyráží soubor na turné napříč Českou republikou a&nbsp\;pod hlavičkou Festivalu zámeckých a klášterních divadel oživuje místa s divadelní historií.
LOCATION:Roudnice nad Labem
END:VEVENT
END:VCALENDAR