BEGIN:VCALENDAR
VERSION:2.0
CALSCALE:GREGORIAN
PRODID:-//MyApp//Calendar 1.0//EN
BEGIN:VEVENT
METHOD:PUBLISH
UID:32656@regionalniportaly.cz
DTSTAMP:20260421T234546Z
DTSTART;VALUE=DATE:20230817
DTEND;VALUE=DATE:20230818
SUMMARY:JAZZ BAND - Dvořákův festival
DESCRIPTION:Poznejte Dvořákův festival na lodi Florentina a užijte si nezapomenutelný večer s prvotřídními umělci přímo na palubě!&nbsp\;Účinkující:&nbsp\;CZECH PHILHARMONIC JAZZ BAND - komorní&nbsp\;soubor České&nbsp\;filharmonieJAROSLAV HALÍŘ – trubkaLUKÁŠ MOŤKA – trombonPETR RIES – kontrabasJAN KELLER – violoncelloJAKUB DVOŘÁČEK – klavírMICHAL KOSTIUK – baryton saxofonJAN PRCHAL – bicíTOMÁŠ KOPÁČEK – umělecký vedoucí\, klarinet\, tenor saxofon&nbsp\;Pořadatel:&nbsp\;Dvořákův festival&nbsp\;Program:&nbsp\;ANTONÍN DVOŘÁK GOES TO JAZZA. Dvořák / arr. T. Kopáček – Largo ze Symfonie č. 9 e moll\, op. 95 „Z Nového světa“A. Dvořák / arr. T. Kopáček – Pastorale z České suity\, op. 39A. Dvořák / arr. J. Dvořáček – Slovanský tanec č. 4 F dur\, op. 46A. Dvořák / arr. J. Dvořáček – Slovanský tanec č. 2 e moll\, op. 46A. Dvořák / arr. T. Kopáček – V přírodě\, koncertní předehra\, op. 91A. Dvořák / arr. T. Kopáček – Karneval\, koncertní předehra\, op. 92A. Dvořák / arr. T. Kopáček – Humoreska\, op. 101A. Dvořák / arr. T. Kopáček – Vodník\, symfonická báseň\, op. 107A. Dvořák / arr. T. Kopáček – Slovanský tanec č. 8 As dur\, op. 72A. Dvořák / arr. T. Kopáček – Adagio ze Symfonie č. 8 G dur\, op. 88&nbsp\;Důležité informace k nalodění:Od 18\,30 možnost večeře v&nbsp\;restauraci na lodi.Rezervace nutná. Tel.č.: +420&nbsp\;601&nbsp\;001&nbsp\;592
LOCATION:Mělník
END:VEVENT
END:VCALENDAR