BEGIN:VCALENDAR
VERSION:2.0
CALSCALE:GREGORIAN
PRODID:-//MyApp//Calendar 1.0//EN
BEGIN:VEVENT
METHOD:PUBLISH
UID:32452@regionalniportaly.cz
DTSTAMP:20260421T185937Z
DTSTART;VALUE=DATE:20230513
DTEND;VALUE=DATE:20230514
SUMMARY:GINEVRA - k slavnostnímu otevření Valdštejnského sálu
DESCRIPTION:Balady a pověsti českých hradů a zámků v prostředí nově zrekonstruovaného Valdštejnského sálu se známou příbramskou skupinou.
LOCATION:Bělá pod Bezdězem
END:VEVENT
END:VCALENDAR