BEGIN:VCALENDAR
VERSION:2.0
CALSCALE:GREGORIAN
PRODID:-//MyApp//Calendar 1.0//EN
BEGIN:VEVENT
METHOD:PUBLISH
UID:32263@regionalniportaly.cz
DTSTAMP:20260421T221830Z
DTSTART;VALUE=DATE:20231210
DTEND;VALUE=DATE:20231211
SUMMARY:Vašo Patejdl  "MOJE ČESKOSLOVENSKÉ VIANOCE TOUR 2023"
DESCRIPTION:Vašo Patejdl so svojou kapelou a sláčikovým kvartetomVaše Patejdl\, legendární slovenský hudebník\, skladatel a zpěvák\, zakladatel skupiny Elán\, vyráží se svou skupinou a smyčcovým kvartetem na Vánoční turné s názvem "MOJE ČESKOSLOVENSKÉ VÁNOCE 2023".Můžete se těšit na jeho největší hity\, písně skupiny Elán\, ale také písně z autorského vánočního CD a Vánoční koledy.Délka vystoupení: 100 minut
LOCATION:Čelákovice
END:VEVENT
END:VCALENDAR