BEGIN:VCALENDAR
VERSION:2.0
CALSCALE:GREGORIAN
PRODID:-//MyApp//Calendar 1.0//EN
BEGIN:VEVENT
METHOD:PUBLISH
UID:32129@regionalniportaly.cz
DTSTAMP:20260421T233445Z
DTSTART;VALUE=DATE:20231123
DTEND;VALUE=DATE:20231124
SUMMARY:Bílé Vánoce Lucie Bílé II.
DESCRIPTION:Zpříjemněte si předvánoční čas koncertem naší nejpopulárnější zpěvačky a užijte si chvíle plné lásky\, klidu a kouzelné atmosféry blížícího se Štědrého dne. Repertoár vystoupení\, během kterého zazní písně z obou úspěšných alb BÍLÉ VÁNOCE Lucie Bílé\, je přizpůsoben právě adventnímu období.
LOCATION:Čelákovice
END:VEVENT
END:VCALENDAR